Package: TitanCNA Version: 1.45.0 Command: /home/biocbuild/bbs-3.21-bioc/R/bin/R CMD build --keep-empty-dirs --no-resave-data TitanCNA StartedAt: 2025-02-10 19:45:51 -0500 (Mon, 10 Feb 2025) EndedAt: 2025-02-10 19:47:10 -0500 (Mon, 10 Feb 2025) EllapsedTime: 79.1 seconds RetCode: 1 Status: ERROR PackageFile: None PackageFileSize: NA