Package: TitanCNA Version: 1.45.0 Command: /home/biocbuild/bbs-3.21-bioc/R/bin/R CMD INSTALL TitanCNA StartedAt: 2025-02-10 15:52:46 -0500 (Mon, 10 Feb 2025) EndedAt: 2025-02-10 15:53:29 -0500 (Mon, 10 Feb 2025) EllapsedTime: 43.1 seconds RetCode: 0 Status: OK