Package: TitanCNA Version: 1.45.0 Command: chmod a+r TitanCNA -R && E:\biocbuild\bbs-3.21-bioc\R\bin\R.exe CMD build --keep-empty-dirs --no-resave-data TitanCNA StartedAt: 2025-02-10 22:18:57 -0500 (Mon, 10 Feb 2025) EndedAt: 2025-02-10 22:20:40 -0500 (Mon, 10 Feb 2025) EllapsedTime: 103.3 seconds RetCode: 1 Status: ERROR PackageFile: None PackageFileSize: NA