Package: TitanCNA Version: 1.45.0 Command: E:\biocbuild\bbs-3.21-bioc\R\bin\R.exe CMD INSTALL TitanCNA StartedAt: 2025-02-10 16:23:24 -0500 (Mon, 10 Feb 2025) EndedAt: 2025-02-10 16:24:27 -0500 (Mon, 10 Feb 2025) EllapsedTime: 62.9 seconds RetCode: 0 Status: OK