Package: ToxicoGx Version: 2.11.0 Command: /Library/Frameworks/R.framework/Resources/bin/R CMD build --keep-empty-dirs --no-resave-data ToxicoGx StartedAt: 2025-02-04 17:49:55 -0500 (Tue, 04 Feb 2025) EndedAt: 2025-02-04 17:50:15 -0500 (Tue, 04 Feb 2025) EllapsedTime: 20.2 seconds RetCode: 0 Status: OK PackageFile: ToxicoGx_2.11.0.tar.gz PackageFileSize: 3.936 MiB