Package: ToxicoGx Version: 2.11.0 Command: /Library/Frameworks/R.framework/Resources/bin/R CMD build --keep-empty-dirs --no-resave-data ToxicoGx StartedAt: 2025-02-09 18:44:49 -0500 (Sun, 09 Feb 2025) EndedAt: 2025-02-09 18:45:46 -0500 (Sun, 09 Feb 2025) EllapsedTime: 57.2 seconds RetCode: 0 Status: OK PackageFile: ToxicoGx_2.11.0.tar.gz PackageFileSize: 3.936 MiB