Package: ToxicoGx Version: 2.11.0 Command: /home/biocbuild/bbs-3.21-bioc/R/bin/R CMD check --install=check:ToxicoGx.install-out.txt --library=/home/biocbuild/bbs-3.21-bioc/R/site-library --timings ToxicoGx_2.11.0.tar.gz StartedAt: 2025-02-10 03:26:06 -0500 (Mon, 10 Feb 2025) EndedAt: 2025-02-10 03:31:10 -0500 (Mon, 10 Feb 2025) EllapsedTime: 303.4 seconds RetCode: 0 Status: OK CheckDir: ToxicoGx.Rcheck Warnings: 0