Package: ToxicoGx Version: 2.11.0 Command: /home/biocbuild/bbs-3.21-bioc/R/bin/R CMD INSTALL ToxicoGx StartedAt: 2025-02-03 15:32:17 -0500 (Mon, 03 Feb 2025) EndedAt: 2025-02-03 15:32:51 -0500 (Mon, 03 Feb 2025) EllapsedTime: 34.6 seconds RetCode: 0 Status: OK