Package: ToxicoGx Version: 2.11.0 Command: E:\biocbuild\bbs-3.21-bioc\R\bin\R.exe CMD check --no-multiarch --install=check:ToxicoGx.install-out.txt --library=E:\biocbuild\bbs-3.21-bioc\R\library --no-vignettes --timings ToxicoGx_2.11.0.tar.gz StartedAt: 2025-02-04 06:41:32 -0500 (Tue, 04 Feb 2025) EndedAt: 2025-02-04 06:46:55 -0500 (Tue, 04 Feb 2025) EllapsedTime: 322.5 seconds RetCode: 0 Status: OK CheckDir: ToxicoGx.Rcheck Warnings: 0