Package: ToxicoGx Version: 2.11.0 Command: E:\biocbuild\bbs-3.21-bioc\R\bin\R.exe CMD INSTALL ToxicoGx StartedAt: 2025-02-03 16:36:26 -0500 (Mon, 03 Feb 2025) EndedAt: 2025-02-03 16:37:36 -0500 (Mon, 03 Feb 2025) EllapsedTime: 70.2 seconds RetCode: 0 Status: OK