Package: TrIdent Version: 0.99.3 Command: /Library/Frameworks/R.framework/Resources/bin/R CMD check --install=check:TrIdent.install-out.txt --library=/Library/Frameworks/R.framework/Resources/library --no-vignettes --timings TrIdent_0.99.3.tar.gz StartedAt: 2025-02-09 21:50:28 -0500 (Sun, 09 Feb 2025) EndedAt: 2025-02-09 21:51:32 -0500 (Sun, 09 Feb 2025) EllapsedTime: 63.8 seconds RetCode: 0 Status: OK CheckDir: TrIdent.Rcheck Warnings: 0