Package: TrIdent Version: 0.99.3 Command: /Library/Frameworks/R.framework/Resources/bin/R CMD INSTALL TrIdent StartedAt: 2025-02-12 15:06:46 -0500 (Wed, 12 Feb 2025) EndedAt: 2025-02-12 15:06:51 -0500 (Wed, 12 Feb 2025) EllapsedTime: 5.3 seconds RetCode: 0 Status: OK