Package: TrIdent Version: 0.99.3 Command: /home/biocbuild/R/R/bin/R CMD build --keep-empty-dirs --no-resave-data TrIdent StartedAt: 2025-01-28 03:01:53 -0000 (Tue, 28 Jan 2025) EndedAt: 2025-01-28 03:03:07 -0000 (Tue, 28 Jan 2025) EllapsedTime: 74.0 seconds RetCode: 0 Status: OK PackageFile: TrIdent_0.99.3.tar.gz PackageFileSize: 1.361 MiB