Package: TrIdent Version: 0.99.3 Command: /home/biocbuild/R/R/bin/R CMD check --install=check:TrIdent.install-out.txt --library=/home/biocbuild/R/R/site-library --no-vignettes --timings TrIdent_0.99.3.tar.gz StartedAt: 2025-01-27 13:38:53 -0000 (Mon, 27 Jan 2025) EndedAt: 2025-01-27 13:43:24 -0000 (Mon, 27 Jan 2025) EllapsedTime: 271.4 seconds RetCode: 0 Status: OK CheckDir: TrIdent.Rcheck Warnings: 0