Package: TrIdent Version: 0.99.3 Command: rm -rf TrIdent.buildbin-libdir && mkdir TrIdent.buildbin-libdir && /Users/biocbuild/BBS/utils/build-universal.sh TrIdent_0.99.3.tar.gz /Library/Frameworks/R.framework/Resources/bin/R TrIdent.buildbin-libdir StartedAt: 2025-02-10 01:21:20 -0500 (Mon, 10 Feb 2025) EndedAt: 2025-02-10 01:21:36 -0500 (Mon, 10 Feb 2025) EllapsedTime: 15.1 seconds RetCode: 0 Status: OK PackageFile: TrIdent_0.99.3.tgz PackageFileSize: 3.186 MiB