Package: TrIdent Version: 0.99.3 Command: /Library/Frameworks/R.framework/Resources/bin/R CMD build --keep-empty-dirs --no-resave-data TrIdent StartedAt: 2025-02-09 18:46:32 -0500 (Sun, 09 Feb 2025) EndedAt: 2025-02-09 18:47:22 -0500 (Sun, 09 Feb 2025) EllapsedTime: 50.3 seconds RetCode: 0 Status: OK PackageFile: TrIdent_0.99.3.tar.gz PackageFileSize: 1.764 MiB