Package: TrIdent Version: 0.99.3 Command: /Library/Frameworks/R.framework/Resources/bin/R CMD INSTALL TrIdent StartedAt: 2025-02-09 15:11:39 -0500 (Sun, 09 Feb 2025) EndedAt: 2025-02-09 15:11:50 -0500 (Sun, 09 Feb 2025) EllapsedTime: 11.1 seconds RetCode: 0 Status: OK