Package: TrIdent Version: 0.99.3 Command: /home/biocbuild/bbs-3.21-bioc/R/bin/R CMD check --install=check:TrIdent.install-out.txt --library=/home/biocbuild/bbs-3.21-bioc/R/site-library --timings TrIdent_0.99.3.tar.gz StartedAt: 2025-02-10 03:32:14 -0500 (Mon, 10 Feb 2025) EndedAt: 2025-02-10 03:35:04 -0500 (Mon, 10 Feb 2025) EllapsedTime: 170.2 seconds RetCode: 0 Status: OK CheckDir: TrIdent.Rcheck Warnings: 0