Package: TrIdent Version: 0.99.3 Command: /home/biocbuild/bbs-3.21-bioc/R/bin/R CMD INSTALL TrIdent StartedAt: 2025-02-09 15:10:19 -0500 (Sun, 09 Feb 2025) EndedAt: 2025-02-09 15:10:34 -0500 (Sun, 09 Feb 2025) EllapsedTime: 15.1 seconds RetCode: 0 Status: OK