Package: TrIdent Version: 0.99.3 Command: rm -rf TrIdent.buildbin-libdir && mkdir TrIdent.buildbin-libdir && E:\biocbuild\bbs-3.21-bioc\R\bin\R.exe CMD INSTALL --build --library=TrIdent.buildbin-libdir TrIdent_0.99.3.tar.gz StartedAt: 2025-02-10 08:54:41 -0500 (Mon, 10 Feb 2025) EndedAt: 2025-02-10 08:57:36 -0500 (Mon, 10 Feb 2025) EllapsedTime: 175.2 seconds RetCode: 0 Status: OK PackageFile: TrIdent_0.99.3.zip PackageFileSize: 2.724 MiB