Package: TrIdent Version: 0.99.3 Command: E:\biocbuild\bbs-3.21-bioc\R\bin\R.exe CMD check --no-multiarch --install=check:TrIdent.install-out.txt --library=E:\biocbuild\bbs-3.21-bioc\R\library --no-vignettes --timings TrIdent_0.99.3.tar.gz StartedAt: 2025-02-10 06:21:54 -0500 (Mon, 10 Feb 2025) EndedAt: 2025-02-10 06:25:19 -0500 (Mon, 10 Feb 2025) EllapsedTime: 205.1 seconds RetCode: 0 Status: OK CheckDir: TrIdent.Rcheck Warnings: 0