Package: TrIdent Version: 0.99.3 Command: E:\biocbuild\bbs-3.21-bioc\R\bin\R.exe CMD INSTALL TrIdent StartedAt: 2025-02-12 15:33:43 -0500 (Wed, 12 Feb 2025) EndedAt: 2025-02-12 15:36:45 -0500 (Wed, 12 Feb 2025) EllapsedTime: 181.8 seconds RetCode: 0 Status: OK