Package: TrajectoryGeometry Version: 1.15.0 Command: /Library/Frameworks/R.framework/Resources/bin/R CMD build --keep-empty-dirs --no-resave-data TrajectoryGeometry StartedAt: 2025-02-09 17:49:52 -0500 (Sun, 09 Feb 2025) EndedAt: 2025-02-09 17:51:23 -0500 (Sun, 09 Feb 2025) EllapsedTime: 91.1 seconds RetCode: 0 Status: OK PackageFile: TrajectoryGeometry_1.15.0.tar.gz PackageFileSize: 1.894 MiB