Package: TrajectoryGeometry Version: 1.15.0 Command: /home/biocbuild/bbs-3.21-bioc/R/bin/R CMD check --install=check:TrajectoryGeometry.install-out.txt --library=/home/biocbuild/bbs-3.21-bioc/R/site-library --timings TrajectoryGeometry_1.15.0.tar.gz StartedAt: 2025-02-13 03:27:19 -0500 (Thu, 13 Feb 2025) EndedAt: 2025-02-13 03:33:17 -0500 (Thu, 13 Feb 2025) EllapsedTime: 357.5 seconds RetCode: 0 Status: OK CheckDir: TrajectoryGeometry.Rcheck Warnings: 0