Package: TrajectoryGeometry Version: 1.15.0 Command: /home/biocbuild/bbs-3.21-bioc/R/bin/R CMD INSTALL TrajectoryGeometry StartedAt: 2025-02-09 15:08:21 -0500 (Sun, 09 Feb 2025) EndedAt: 2025-02-09 15:08:36 -0500 (Sun, 09 Feb 2025) EllapsedTime: 15.9 seconds RetCode: 0 Status: OK