Package: TrajectoryGeometry Version: 1.15.0 Command: chmod a+r TrajectoryGeometry -R && E:\biocbuild\bbs-3.21-bioc\R\bin\R.exe CMD build --keep-empty-dirs --no-resave-data TrajectoryGeometry StartedAt: 2025-02-09 22:08:46 -0500 (Sun, 09 Feb 2025) EndedAt: 2025-02-09 22:13:54 -0500 (Sun, 09 Feb 2025) EllapsedTime: 308.3 seconds RetCode: 0 Status: OK PackageFile: TrajectoryGeometry_1.15.0.tar.gz PackageFileSize: 1.758 MiB