Package: TrajectoryGeometry Version: 1.15.0 Command: E:\biocbuild\bbs-3.21-bioc\R\bin\R.exe CMD check --no-multiarch --install=check:TrajectoryGeometry.install-out.txt --library=E:\biocbuild\bbs-3.21-bioc\R\library --no-vignettes --timings TrajectoryGeometry_1.15.0.tar.gz StartedAt: 2025-02-13 06:28:50 -0500 (Thu, 13 Feb 2025) EndedAt: 2025-02-13 06:30:17 -0500 (Thu, 13 Feb 2025) EllapsedTime: 86.4 seconds RetCode: 0 Status: OK CheckDir: TrajectoryGeometry.Rcheck Warnings: 0