Package: TreeAndLeaf Version: 1.19.0 Maintainer: Milena A. Cardoso MaintainerEmail: milenandreuzo at gmail.com git_url: https://git.bioconductor.org/packages/TreeAndLeaf git_branch: devel git_last_commit: cc7657b git_last_commit_date: 2024-10-29 10:43:22 -0500 (Tue, 29 Oct 2024)