Package: TreeAndLeaf Version: 1.19.0 Command: rm -rf TreeAndLeaf.buildbin-libdir && mkdir TreeAndLeaf.buildbin-libdir && /Users/biocbuild/BBS/utils/build-universal.sh TreeAndLeaf_1.19.0.tar.gz /Library/Frameworks/R.framework/Resources/bin/R TreeAndLeaf.buildbin-libdir StartedAt: 2025-02-09 22:33:59 -0500 (Sun, 09 Feb 2025) EndedAt: 2025-02-09 22:34:02 -0500 (Sun, 09 Feb 2025) EllapsedTime: 3.1 seconds RetCode: 0 Status: OK PackageFile: TreeAndLeaf_1.19.0.tgz PackageFileSize: 3.162 MiB