Package: TreeAndLeaf Version: 1.19.0 Command: /Library/Frameworks/R.framework/Resources/bin/R CMD INSTALL TreeAndLeaf StartedAt: 2025-02-09 15:13:09 -0500 (Sun, 09 Feb 2025) EndedAt: 2025-02-09 15:13:10 -0500 (Sun, 09 Feb 2025) EllapsedTime: 1.5 seconds RetCode: 0 Status: OK