Package: TreeAndLeaf Version: 1.19.0 Command: /home/biocbuild/R/R/bin/R CMD INSTALL TreeAndLeaf StartedAt: 2025-01-29 20:00:56 -0000 (Wed, 29 Jan 2025) EndedAt: 2025-01-29 20:01:01 -0000 (Wed, 29 Jan 2025) EllapsedTime: 4.7 seconds RetCode: 0 Status: OK