Package: TreeSummarizedExperiment Version: 2.15.0 Command: rm -rf TreeSummarizedExperiment.buildbin-libdir && mkdir TreeSummarizedExperiment.buildbin-libdir && /Users/biocbuild/BBS/utils/build-universal.sh TreeSummarizedExperiment_2.15.0.tar.gz /Library/Frameworks/R.framework/Resources/bin/R TreeSummarizedExperiment.buildbin-libdir StartedAt: 2025-02-12 22:39:11 -0500 (Wed, 12 Feb 2025) EndedAt: 2025-02-12 22:39:25 -0500 (Wed, 12 Feb 2025) EllapsedTime: 14.3 seconds RetCode: 0 Status: OK PackageFile: TreeSummarizedExperiment_2.15.0.tgz PackageFileSize: 1.837 MiB