Package: TreeSummarizedExperiment Version: 2.15.0 Command: /home/biocbuild/R/R/bin/R CMD INSTALL TreeSummarizedExperiment StartedAt: 2025-01-29 19:59:39 -0000 (Wed, 29 Jan 2025) EndedAt: 2025-01-29 20:00:22 -0000 (Wed, 29 Jan 2025) EllapsedTime: 43.5 seconds RetCode: 0 Status: OK