Package: TreeSummarizedExperiment Version: 2.15.0 Command: /Library/Frameworks/R.framework/Resources/bin/R CMD build --keep-empty-dirs --no-resave-data TreeSummarizedExperiment StartedAt: 2025-02-12 18:37:50 -0500 (Wed, 12 Feb 2025) EndedAt: 2025-02-12 18:38:56 -0500 (Wed, 12 Feb 2025) EllapsedTime: 66.4 seconds RetCode: 0 Status: OK PackageFile: TreeSummarizedExperiment_2.15.0.tar.gz PackageFileSize: 1.104 MiB