Package: TreeSummarizedExperiment Version: 2.15.0 Command: /home/biocbuild/bbs-3.21-bioc/R/bin/R CMD check --install=check:TreeSummarizedExperiment.install-out.txt --library=/home/biocbuild/bbs-3.21-bioc/R/site-library --timings TreeSummarizedExperiment_2.15.0.tar.gz StartedAt: 2025-02-10 03:31:11 -0500 (Mon, 10 Feb 2025) EndedAt: 2025-02-10 03:37:33 -0500 (Mon, 10 Feb 2025) EllapsedTime: 382.6 seconds RetCode: 0 Status: OK CheckDir: TreeSummarizedExperiment.Rcheck Warnings: 0