Package: TreeSummarizedExperiment Version: 2.15.0 Command: /home/biocbuild/bbs-3.21-bioc/R/bin/R CMD INSTALL TreeSummarizedExperiment StartedAt: 2025-02-09 15:23:29 -0500 (Sun, 09 Feb 2025) EndedAt: 2025-02-09 15:24:01 -0500 (Sun, 09 Feb 2025) EllapsedTime: 32.3 seconds RetCode: 0 Status: OK