Package: TreeSummarizedExperiment Version: 2.15.0 Command: rm -rf TreeSummarizedExperiment.buildbin-libdir && mkdir TreeSummarizedExperiment.buildbin-libdir && E:\biocbuild\bbs-3.21-bioc\R\bin\R.exe CMD INSTALL --build --library=TreeSummarizedExperiment.buildbin-libdir TreeSummarizedExperiment_2.15.0.tar.gz StartedAt: 2025-02-10 08:54:28 -0500 (Mon, 10 Feb 2025) EndedAt: 2025-02-10 08:59:53 -0500 (Mon, 10 Feb 2025) EllapsedTime: 325.0 seconds RetCode: 0 Status: OK PackageFile: TreeSummarizedExperiment_2.15.0.zip PackageFileSize: 1.726 MiB