Package: Trendy Version: 1.29.0 Command: /Library/Frameworks/R.framework/Resources/bin/R CMD build --keep-empty-dirs --no-resave-data Trendy StartedAt: 2025-02-09 17:50:34 -0500 (Sun, 09 Feb 2025) EndedAt: 2025-02-09 17:51:05 -0500 (Sun, 09 Feb 2025) EllapsedTime: 30.4 seconds RetCode: 0 Status: OK PackageFile: Trendy_1.29.0.tar.gz PackageFileSize: 1.084 MiB