Package: Trendy Version: 1.29.0 Command: /Library/Frameworks/R.framework/Resources/bin/R CMD INSTALL Trendy StartedAt: 2025-02-09 15:15:54 -0500 (Sun, 09 Feb 2025) EndedAt: 2025-02-09 15:16:04 -0500 (Sun, 09 Feb 2025) EllapsedTime: 10.2 seconds RetCode: 0 Status: OK