Package: Trendy Version: 1.29.0 Command: /Library/Frameworks/R.framework/Resources/bin/R CMD check --install=check:Trendy.install-out.txt --library=/Library/Frameworks/R.framework/Resources/library --no-vignettes --timings Trendy_1.29.0.tar.gz StartedAt: 2025-02-12 23:57:06 -0500 (Wed, 12 Feb 2025) EndedAt: 2025-02-13 00:00:42 -0500 (Thu, 13 Feb 2025) EllapsedTime: 216.0 seconds RetCode: 0 Status: OK CheckDir: Trendy.Rcheck Warnings: 0