Package: Trendy Version: 1.29.0 Command: /home/biocbuild/bbs-3.21-bioc/R/bin/R CMD build --keep-empty-dirs --no-resave-data Trendy StartedAt: 2025-02-04 19:37:18 -0500 (Tue, 04 Feb 2025) EndedAt: 2025-02-04 19:38:22 -0500 (Tue, 04 Feb 2025) EllapsedTime: 64.2 seconds RetCode: 0 Status: OK PackageFile: Trendy_1.29.0.tar.gz PackageFileSize: 1.084 MiB