Package: Trendy Version: 1.29.0 Command: /home/biocbuild/bbs-3.21-bioc/R/bin/R CMD check --install=check:Trendy.install-out.txt --library=/home/biocbuild/bbs-3.21-bioc/R/site-library --timings Trendy_1.29.0.tar.gz StartedAt: 2025-02-05 03:38:56 -0500 (Wed, 05 Feb 2025) EndedAt: 2025-02-05 03:42:23 -0500 (Wed, 05 Feb 2025) EllapsedTime: 207.2 seconds RetCode: 0 Status: OK CheckDir: Trendy.Rcheck Warnings: 0