Package: Trendy Version: 1.29.0 Command: rm -rf Trendy.buildbin-libdir && mkdir Trendy.buildbin-libdir && E:\biocbuild\bbs-3.21-bioc\R\bin\R.exe CMD INSTALL --build --library=Trendy.buildbin-libdir Trendy_1.29.0.tar.gz StartedAt: 2025-02-10 08:54:33 -0500 (Mon, 10 Feb 2025) EndedAt: 2025-02-10 08:55:03 -0500 (Mon, 10 Feb 2025) EllapsedTime: 30.2 seconds RetCode: 0 Status: OK PackageFile: Trendy_1.29.0.zip PackageFileSize: 775.8 KiB