Package: UCSC.utils Version: 1.3.1 Command: /Library/Frameworks/R.framework/Resources/bin/R CMD check --install=check:UCSC.utils.install-out.txt --library=/Library/Frameworks/R.framework/Resources/library --no-vignettes --timings UCSC.utils_1.3.1.tar.gz StartedAt: 2025-02-09 21:52:21 -0500 (Sun, 09 Feb 2025) EndedAt: 2025-02-09 21:52:58 -0500 (Sun, 09 Feb 2025) EllapsedTime: 37.5 seconds RetCode: 0 Status: OK CheckDir: UCSC.utils.Rcheck Warnings: 0