Package: UCSC.utils Version: 1.3.1 Command: /Library/Frameworks/R.framework/Resources/bin/R CMD INSTALL UCSC.utils StartedAt: 2025-02-09 15:03:43 -0500 (Sun, 09 Feb 2025) EndedAt: 2025-02-09 15:03:45 -0500 (Sun, 09 Feb 2025) EllapsedTime: 2.6 seconds RetCode: 0 Status: OK