Package: UCSC.utils Version: 1.3.1 Command: /home/biocbuild/R/R/bin/R CMD build --keep-empty-dirs --no-resave-data UCSC.utils StartedAt: 2025-01-28 03:04:51 -0000 (Tue, 28 Jan 2025) EndedAt: 2025-01-28 03:05:14 -0000 (Tue, 28 Jan 2025) EllapsedTime: 23.0 seconds RetCode: 0 Status: OK PackageFile: UCSC.utils_1.3.1.tar.gz PackageFileSize: 256 KiB