Package: UCSC.utils Version: 1.3.1 Command: /home/biocbuild/R/R/bin/R CMD check --install=check:UCSC.utils.install-out.txt --library=/home/biocbuild/R/R/site-library --no-vignettes --timings UCSC.utils_1.3.1.tar.gz StartedAt: 2025-01-27 13:45:08 -0000 (Mon, 27 Jan 2025) EndedAt: 2025-01-27 13:46:54 -0000 (Mon, 27 Jan 2025) EllapsedTime: 105.2 seconds RetCode: 0 Status: OK CheckDir: UCSC.utils.Rcheck Warnings: 0