Package: UCSC.utils Version: 1.3.1 Command: rm -rf UCSC.utils.buildbin-libdir && mkdir UCSC.utils.buildbin-libdir && /Users/biocbuild/BBS/utils/build-universal.sh UCSC.utils_1.3.1.tar.gz /Library/Frameworks/R.framework/Resources/bin/R UCSC.utils.buildbin-libdir StartedAt: 2025-02-04 01:01:39 -0500 (Tue, 04 Feb 2025) EndedAt: 2025-02-04 01:01:47 -0500 (Tue, 04 Feb 2025) EllapsedTime: 8.2 seconds RetCode: 0 Status: OK PackageFile: UCSC.utils_1.3.1.tgz PackageFileSize: 282.9 KiB