Package: UCSC.utils Version: 1.3.1 Command: /Library/Frameworks/R.framework/Resources/bin/R CMD INSTALL UCSC.utils StartedAt: 2025-02-03 15:13:08 -0500 (Mon, 03 Feb 2025) EndedAt: 2025-02-03 15:13:35 -0500 (Mon, 03 Feb 2025) EllapsedTime: 27.4 seconds RetCode: 0 Status: OK