Package: UCSC.utils Version: 1.3.1 Command: /home/biocbuild/bbs-3.21-bioc/R/bin/R CMD build --keep-empty-dirs --no-resave-data UCSC.utils StartedAt: 2025-02-09 19:41:26 -0500 (Sun, 09 Feb 2025) EndedAt: 2025-02-09 19:41:40 -0500 (Sun, 09 Feb 2025) EllapsedTime: 14.0 seconds RetCode: 0 Status: OK PackageFile: UCSC.utils_1.3.1.tar.gz PackageFileSize: 230.7 KiB